BEGIN:VCALENDAR
VERSION:2.0
PRODID:-//wp-events-plugin.com//7.2.3.1//EN
TZID:Europe/Berlin
X-WR-TIMEZONE:Europe/Berlin
BEGIN:VEVENT
UID:816@smf-verband.de
DTSTART;TZID=Europe/Berlin:20260629T130000
DTEND;TZID=Europe/Berlin:20260629T150000
DTSTAMP:20260415T082557Z
URL:https://smf-verband.de/veranstaltungen/ppq-sprachcafe-12/
SUMMARY:PPQ - Sprachcafé
DESCRIPTION:Möchtest du Deutsch sprechen und üben?Dein Deutsch ist gut od
 er nicht gut?Alle Menschen sind willkommen.\nWir treffen uns in ruhiger At
 mosphäre.Wir sprechen miteinander.Wir hören zu.Wir lernen zusammen.\nEs 
 gibt keinen Druck.Fehler sind erlaubt.\nWann:Jeden Montag\, 13:00–15:00 
 Uhr(außer Schulferien und Feiertagen)\n\nWo:Sozialdienst muslimischer Fra
 uen (SmF) KemptenFürstenstraße 2387439 Kempten\nDas Sprachcafé ist Teil
  des Projekts Patenschaft-Praxis-Qualifizierung (PPQ)\, richtet sich an al
 le Mentees\, ist kostenlos und erfordert keine Vorkenntnisse\nDas Projekt 
 Patenschaft-Praxis-Qualifizierung (PPQ) wird im Rahmen des Programms„Men
 schen stärken Menschen“ durch das Bundesministerium für Familie\, Seni
 oren\, Frauen und Jugend (BMFSFJ) gefördert und ist an insgesamt zwölf S
 tandorten aktiv.
ATTACH;FMTTYPE=image/jpeg:https://smf-verband.de/wp-content/uploads/2026/0
 1/PPQ_Sprachcafe-2.png
CATEGORIES:Kempten
END:VEVENT
BEGIN:VTIMEZONE
TZID:Europe/Berlin
X-LIC-LOCATION:Europe/Berlin
BEGIN:DAYLIGHT
DTSTART:20260329T030000
TZOFFSETFROM:+0100
TZOFFSETTO:+0200
TZNAME:CEST
END:DAYLIGHT
END:VTIMEZONE
END:VCALENDAR