BEGIN:VCALENDAR
VERSION:2.0
PRODID:-//wp-events-plugin.com//7.2.3.1//EN
TZID:Europe/Berlin
X-WR-TIMEZONE:Europe/Berlin
BEGIN:VEVENT
UID:664@smf-verband.de
DTSTART;TZID=Europe/Berlin:20260427T090000
DTEND;TZID=Europe/Berlin:20260427T130000
DTSTAMP:20260310T094835Z
URL:https://smf-verband.de/veranstaltungen/lib-schultuete-selber-naehen-kr
 eativ-in-den-schulstart/
SUMMARY:LiB - Schultüte selber nähen - kreativ in den Schulstart
DESCRIPTION:Individuell\, bunt und kreativ – gestalte eine ganz persönli
 che Schultüte für dein Kind. Schritt für Schritt entsteht ein einzigart
 iges Unikat zum Schulstart.\nGemeinsam wählen wir Stoffe aus\, schneiden 
 sie zu\, nähen und verzieren die Schultüten. Dabei tauschen wir Ideen au
 s\, üben gemeinsam die Sprache und haben Spaß miteinander.\nMach mit und
  schenke deinem Kind einen unvergesslichen Start in die Schule!\n\nNur mit
  Anmeldung\n\nDieses Projekt wird aus Mitteln des Bayerischen Staatsminist
 eriums des Innern\, für Sport und Integration gefördert.
ATTACH;FMTTYPE=image/jpeg:https://smf-verband.de/wp-content/uploads/2026/0
 3/LiB_Schultuete-1.jpg
CATEGORIES:Kempten
END:VEVENT
BEGIN:VTIMEZONE
TZID:Europe/Berlin
X-LIC-LOCATION:Europe/Berlin
BEGIN:DAYLIGHT
DTSTART:20260329T030000
TZOFFSETFROM:+0100
TZOFFSETTO:+0200
TZNAME:CEST
END:DAYLIGHT
END:VTIMEZONE
END:VCALENDAR