BEGIN:VCALENDAR
VERSION:2.0
PRODID:-//wp-events-plugin.com//7.2.3.1//EN
TZID:Europe/Berlin
X-WR-TIMEZONE:Europe/Berlin
BEGIN:VEVENT
UID:827@smf-verband.de
DTSTART;TZID=Europe/Berlin:20260630T090000
DTEND;TZID=Europe/Berlin:20260630T113000
DTSTAMP:20260415T083351Z
URL:https://smf-verband.de/veranstaltungen/lib-muettercafe-9/
SUMMARY:LiB - Müttercafé
DESCRIPTION:Herzliche Einladung zum Sprachcafé für Mütter\nDeutsch üben
  und anwenden\, neue Kontakte knüpfen und sich austauschen – das alles 
 kannst du bei unserem Sprachcafé!Fehler sind erlaubt – hier gibt es kei
 nen Druck\, nur eine entspannte Stimmung.\nGenieße Kaffee\, kleine Lecker
 eien und nette Gespräche – und wende ganz nebenbei die deutsche Sprache
  an.\nDieses Projekt wird aus Mitteln des Bayerischen Staatsministeriums d
 es Innern\, für Sport und Integration gefördert.\nWann:Jeden Montag\, 09
 :00–11:30 Uhr(außer Schulferien und Feiertagen)\nWo:Sozialdienst muslim
 ischer Frauen (SmF) KemptenFürstenstraße 2387439 Kempten
ATTACH;FMTTYPE=image/jpeg:https://smf-verband.de/wp-content/uploads/2026/0
 1/LiB-Sprachcafe-4.png
CATEGORIES:Kempten
END:VEVENT
BEGIN:VTIMEZONE
TZID:Europe/Berlin
X-LIC-LOCATION:Europe/Berlin
BEGIN:DAYLIGHT
DTSTART:20260329T030000
TZOFFSETFROM:+0100
TZOFFSETTO:+0200
TZNAME:CEST
END:DAYLIGHT
END:VTIMEZONE
END:VCALENDAR