BEGIN:VCALENDAR
VERSION:2.0
PRODID:-//wp-events-plugin.com//7.2.3.1//EN
TZID:Europe/Berlin
X-WR-TIMEZONE:Europe/Berlin
BEGIN:VEVENT
UID:667@smf-verband.de
DTSTART;TZID=Europe/Berlin:20260724T090000
DTEND;TZID=Europe/Berlin:20260724T130000
DTSTAMP:20260310T115956Z
URL:https://smf-verband.de/veranstaltungen/lib-erzaehlschiene-geschichten-
 greifen-gestalten-erleben/
SUMMARY:LiB - Erzählschiene - Geschichten greifen\, gestalten\, erleben.
DESCRIPTION:Erzählschiene mit Annika Sulzer in der Stadtbibliothek\nEntdec
 ken Sie die Welt des kreativen Erzählens! Unter der Leitung von Annika Su
 lzer können Kinder und Jugendliche ihre eigenen Geschichten entwickeln 
 – vom ersten Gedanken über das Schreiben bis hin zur Präsentation.\nDi
 e Erzählschiene bietet spielerische Methoden\, Fantasie auszuleben\, Gesc
 hichten zu gestalten und auf kreative Weise zu erzählen. Ein spannender W
 orkshop für alle\, die Lust haben\, Geschichten lebendig werden zu lassen
 !\n\nDieses Projekt wird aus Mitteln des Bayerischen Staatsministeriums de
 s Innern\, für Sport und Integration gefördert.
ATTACH;FMTTYPE=image/jpeg:https://smf-verband.de/wp-content/uploads/2026/0
 3/LiB_Erzaehlschiene-1.jpg
CATEGORIES:Kempten
END:VEVENT
BEGIN:VTIMEZONE
TZID:Europe/Berlin
X-LIC-LOCATION:Europe/Berlin
BEGIN:DAYLIGHT
DTSTART:20260329T030000
TZOFFSETFROM:+0100
TZOFFSETTO:+0200
TZNAME:CEST
END:DAYLIGHT
END:VTIMEZONE
END:VCALENDAR