BEGIN:VCALENDAR
VERSION:2.0
PRODID:-//wp-events-plugin.com//7.2.3.1//EN
TZID:Europe/Berlin
X-WR-TIMEZONE:Europe/Berlin
BEGIN:VEVENT
UID:658@smf-verband.de
DTSTART;TZID=Europe/Berlin:20260210T130000
DTEND;TZID=Europe/Berlin:20260210T160000
DTSTAMP:20260203T131227Z
URL:https://smf-verband.de/veranstaltungen/kreativ-workshop-zum-ramadan-gl
 aslaternen-malen-mit-muettern-kindern/
SUMMARY:Kreativ-Workshop zum Ramadan – Glaslaternen malen mit Müttern &a
 mp\; Kindern
DESCRIPTION:\nLiebe Mütter\, liebe Kinder\,\nein fröhlicher Bastelnachmit
 tag zum Ramadan: Glaslaternen mit Farbe\, Glitzer und eigenen Ideen gestal
 ten. Gemeinsam lachen\, kreativ sein und die Vorfreude aufs Fest teilen.\n
 Dienstag\, 10.02.2026\nab 13:00 Uhr\nSmF Kempten\, Fürstenstraße 23\n A
 nmeldung:\n\n 	\nAyla Inan – 01525 4122744\n 	\nMeryem Ünal – 01525 4
 114852\n 	\nSmF-Büro – 0831 / 52619937\n\nFür alle Mentees\, Kinder ab
  6 Jahren (PPQ-Mukids-Konzept)\nGefördert durch @menschenstaerkenmenschen
  des @bmfsfj\n@smf_verband
ATTACH;FMTTYPE=image/jpeg:https://smf-verband.de/wp-content/uploads/2026/0
 2/Mukids-Ramadan-2026-1.png
CATEGORIES:Kempten
END:VEVENT
BEGIN:VTIMEZONE
TZID:Europe/Berlin
X-LIC-LOCATION:Europe/Berlin
BEGIN:STANDARD
DTSTART:20251026T020000
TZOFFSETFROM:+0200
TZOFFSETTO:+0100
TZNAME:CET
END:STANDARD
END:VTIMEZONE
END:VCALENDAR